BEGIN:VCALENDAR
VERSION:2.0
PRODID:-//CiviCRM//NONSGML CiviEvent iCal//EN
X-WR-TIMEZONE:Australia/Sydney
METHOD:PUBLISH
BEGIN:VTIMEZONE
TZID:Australia/Sydney
BEGIN:STANDARD
TZOFFSETFROM:+1000
TZOFFSETTO:+1000
TZNAME:AEST
DTSTART:20260501T140000
END:STANDARD
END:VTIMEZONE
BEGIN:VEVENT
UID:CiviCRM_EventID_5_fb9447fbcf8e987635cc77c81c90cfed@www.elliesmith.com.au
SUMMARY:Mount Samson Mobile Office
X-ALT-DESC;FMTTYPE=text/html:<!DOCTYPE HTML PUBLIC
  "-//W3C//DTD HTML 3.2//EN"><html><body><p>Join me
  to discuss local issues and raise any concerns. <
 /p></body></html>
DESCRIPTION:Join me to discuss local issues and raise any conc
 erns. \n \n 
CATEGORIES:Meeting
CALSCALE:GREGORIAN
DTSTAMP;TZID=Australia/Sydney:20260501T140000
DTSTART;TZID=Australia/Sydney:20260501T140000
DTEND;TZID=Australia/Sydney:20260501T160000
LOCATION:Samsonvale Public Hall\n Cnr Winn Rd and Andrew Rd
 \n Mount Samson\, QLD 4520\n Australia\n 
URL:https://www.elliesmith.com.au/civicrm/event/info/?reset=1&id=5
END:VEVENT
END:VCALENDAR
